BEGIN:VCALENDAR
VERSION:2.0
CALSCALE:GREGORIAN
PRODID:-//Diputació de Barcelona//DibaCMS//EN
BEGIN:VEVENT
UID:17993
DTSTAMP:20260422T162056
DTSTART:20260507T113000
DTEND:20260507T140000
SUMMARY:Bibliobús Horari Matí
LOCATION:08396 Sant Cebrià de Vallalta
METHOD:PUBLISH
X-WR-CALNAME:scvl.ajuntament@stcebria.cat
X-WR-TIMEZONE:Europe/Madrid
DESCRIPTION:Descobreix la biblioteca itinerant més important de Catalunya.  Tot allò que necessites per cobrir les teves necessitats literàries, al Bibliobús. Apropa-t’hi!

URI:https://www.stcebria.cat/actualitat/agenda/17993-bibliobus-horari-mati.html
CLASS:PUBLIC
END:VEVENT
END:VCALENDAR
