BEGIN:VCALENDAR
VERSION:2.0
CALSCALE:GREGORIAN
PRODID:-//Diputació de Barcelona//DibaCMS//EN
BEGIN:VEVENT
UID:18087
DTSTAMP:20260424T151454
DTSTART:20260426T100000
DTEND:20260426T150000
SUMMARY:Fira de la Maduixa: 25 Aniversari!
LOCATION:
METHOD:PUBLISH
X-WR-CALNAME:scvl.ajuntament@stcebria.cat
X-WR-TIMEZONE:Europe/Madrid
DESCRIPTION:La fira, que se celebrarà el 26 d’abril, comptarà amb la presència de la xef Carme Ruscalleda i una nova activitat amb globus aerostàtic, a més de la tradicional coca de maduixa gegant de Ca l’Andreu.

URI:https://www.stcebria.cat/actualitat/agenda/18087-fira-de-la-maduixa-25-aniversari.html
CLASS:PUBLIC
END:VEVENT
END:VCALENDAR
