BEGIN:VCALENDAR
VERSION:2.0
CALSCALE:GREGORIAN
PRODID:-//Diputació de Barcelona//DibaCMS//EN
BEGIN:VEVENT
UID:18245
DTSTAMP:20260423T105027
DTSTART:20260430T120000
DTEND:20260430T130000
SUMMARY:Unitat Mòbil de Consum (UMIC)
LOCATION:Aparcament Can Martri 
METHOD:PUBLISH
X-WR-CALNAME:scvl.ajuntament@stcebria.cat
X-WR-TIMEZONE:Europe/Madrid
DESCRIPTION:El dijous 30 d'abril, de 12 a 13 h, la Unitat Mòbil d’Informació al Consumidor (UMIC) atendrà els veïns i veïnes de Sant Cebrià de Vallalta oferint informació i assessorament en matèria de consum.

URI:https://www.stcebria.cat/actualitat/agenda/18245-unitat-mobil-de-consum-umic.html
CLASS:PUBLIC
END:VEVENT
END:VCALENDAR
