BEGIN:VCALENDAR
VERSION:2.0
CALSCALE:GREGORIAN
PRODID:-//Diputació de Barcelona//DibaCMS//EN
BEGIN:VEVENT
UID:18246
DTSTAMP:20260424T180935
DTSTART:20260523T203000
DTEND:20260523T203000
SUMMARY:Concert Tribut de Beatles
LOCATION:08396 Sant Cebrià de Vallalta
METHOD:PUBLISH
X-WR-CALNAME:scvl.ajuntament@stcebria.cat
X-WR-TIMEZONE:Europe/Madrid
DESCRIPTION:Vine a veure The Flaming Shakers, el millor grup tribut als Beatles.

URI:https://www.stcebria.cat/actualitat/agenda/concert-tribut-de-beatles.html
CLASS:PUBLIC
END:VEVENT
END:VCALENDAR
