BEGIN:VCALENDAR
VERSION:2.0
CALSCALE:GREGORIAN
PRODID:-//Diputació de Barcelona//DibaCMS//EN
BEGIN:VEVENT
UID:18247
DTSTAMP:20260424T162556
DTSTART:20260516T120000
DTEND:20260516T220000
SUMMARY:Territori Sauló: Fira de vins
LOCATION:Plaça de l'Església 08396 Sant Cebrià de Vallalta
METHOD:PUBLISH
X-WR-CALNAME:scvl.ajuntament@stcebria.cat
X-WR-TIMEZONE:Europe/Madrid
DESCRIPTION:2a Fira de vins de Sant Cebrià de Vallalta.

URI:https://www.stcebria.cat/actualitat/agenda/territori-saulo-fira-de-vins.html
CLASS:PUBLIC
END:VEVENT
END:VCALENDAR
