BEGIN:VCALENDAR
VERSION:2.0
CALSCALE:GREGORIAN
PRODID:-//Diputació de Barcelona//DibaCMS//EN
BEGIN:VEVENT
UID:18252
DTSTAMP:20260420T165854
DTSTART:20260420T000000
DTEND:20260420T000000
SUMMARY:Acte sobre les urbanitzacions amb dèficit urbanístic
LOCATION:Palau de la Generalitat de Catalunya 
METHOD:PUBLISH
X-WR-CALNAME:scvl.ajuntament@stcebria.cat
X-WR-TIMEZONE:Europe/Madrid
DESCRIPTION:
URI:https://www.stcebria.cat/ajuntament/govern/agenda-politica/acte-sobre-les-urbanitzacions-amb-deficit-urbanistic.html
CLASS:PUBLIC
END:VEVENT
END:VCALENDAR
