BEGIN:VCALENDAR
VERSION:2.0
CALSCALE:GREGORIAN
PRODID:-//Diputació de Barcelona//DibaCMS//EN
BEGIN:VEVENT
UID:18261
DTSTAMP:20260425T055930
DTSTART:20260427T100000
DTEND:20260427T100000
SUMMARY:Signatura de l'acta de recepció de la xarxa d'aigua de la urbanització Vistamar 
LOCATION:Centre 27 08396 Sant Cebrià de Vallalta
METHOD:PUBLISH
X-WR-CALNAME:scvl.ajuntament@stcebria.cat
X-WR-TIMEZONE:Europe/Madrid
DESCRIPTION:
URI:https://www.stcebria.cat/ajuntament/govern/agenda-politica/signatura-de-lacta-de-recepcio-de-la-xarxa-daigua-de-la-urbanitzacio-vistamar-.html
CLASS:PUBLIC
END:VEVENT
END:VCALENDAR
