BEGIN:VCALENDAR
VERSION:2.0
CALSCALE:GREGORIAN
PRODID:-//Diputació de Barcelona//DibaCMS//EN
BEGIN:VEVENT
UID:18262
DTSTAMP:20260425T055802
DTSTART:20260427T120000
DTEND:20260427T120000
SUMMARY:Reunió ajuntaments afectats per les urbanitzacions amb dèficits urbanístics
LOCATION:
METHOD:PUBLISH
X-WR-CALNAME:scvl.ajuntament@stcebria.cat
X-WR-TIMEZONE:Europe/Madrid
DESCRIPTION:La reunió serà telemàtica.

URI:https://www.stcebria.cat/ajuntament/govern/agenda-politica/reunio-ajuntaments-afectats-per-les-urbanitzacions-amb-deficits-urbanistics.html
CLASS:PUBLIC
END:VEVENT
END:VCALENDAR
