BEGIN:VCALENDAR
VERSION:2.0
CALSCALE:GREGORIAN
PRODID:-//Diputació de Barcelona//DibaCMS//EN
BEGIN:VEVENT
UID:18263
DTSTAMP:20260425T060344
DTSTART:20260427T180000
DTEND:20260427T180000
SUMMARY:XLV Gala Nacional del Deporte 2026
LOCATION:Pavelló del Parc del Colomer (Santa Susanna) 
METHOD:PUBLISH
X-WR-CALNAME:scvl.ajuntament@stcebria.cat
X-WR-TIMEZONE:Europe/Madrid
DESCRIPTION:
URI:https://www.stcebria.cat/ajuntament/govern/agenda-politica/xlv-gala-nacional-del-deporte-2026.html
CLASS:PUBLIC
END:VEVENT
END:VCALENDAR
